BEGIN:VCALENDAR
VERSION:2.0
PRODID:-//Jupiter//NONSGML Event Calendar//EN
CALSCALE:GREGORIAN
METHOD:PUBLISH
BEGIN:VEVENT
UID:97205e40-f901-4151-a7ec-5a58e1a08b57@qomon.com
DTSTAMP:20260404T191915Z
DTSTART:20260507T230000Z
DTEND:20260508T020000Z
SUMMARY:Baldwin Democrats Annual Spring Fundraiser
DESCRIPTION:<h1><strong><u>Tickets are officially LIVE for our Spring Fundraiser</u></strong></h1><p>Join us for an unforgettable evening of live music with <strong>Grayson Capps</strong>\, speeches from local candidates and Mark Poloncarz\, Vice Chair of the National Democratic County Officials along with great food\, drinks\, and a silent auction which all support everything that Baldwin County Democrats do.</p><p>We have a <strong>limited capacity of just 200 guests</strong>\, and tickets are <strong>first come\, first served</strong> so once they’re gone\, they’re gone.</p><ul><li><strong>Early Bird General Admission pricing through April 17th</strong></li><li>VIP Tickets are limited</li></ul><h2>Secure your spot now before prices go up and tickets run out by <a target="_blank" rel="noopener noreferrer nofollow" href="https://bcd.qrplanet.com/2026tickets"><strong><span style="color: rgb(18\, 31\, 130)">clicking the link here</span></strong></a></h2><p></p><h2><u>Donations Needed!</u></h2><p>We are also inviting our community to contribute to the silent auction &amp\; raffles. Donations of gift cards\, artwork\, products\, or services are greatly appreciated. Please contact <strong>Catherine Quinley at social.easternshoredems@gmail.com for more details.</strong></p><p></p><h2><strong><span style="color: rgb(34\, 34\, 48)">To stay up to date on this event and others please download our mobile app. You can learn more by clicking </span></strong><a target="_blank" rel="noopener noreferrer nofollow" href="https://bcd.qrplanet.com/qomon?consent=1"><strong><span style="color: rgb(44\, 44\, 104)">here!</span></strong></a></h2><h3><em><span style="color: rgb(95\, 93\, 93)">All contributions or gifts support the Baldwin County Democrats Executive Committee (BCDEC)\, a political action committee (PAC) per the Internal Review Code\, Section 527(j)\, whose goals include promoting progressive initiatives in Baldwin County and recruiting\, qualifying\, and supporting Democratic candidates for elective office. Contributions or gifts are not deductible as charitable contributions for federal or state income tax purposes. BCDEC is not responsible for candidate or committee content on this page\, nor any communications made by candidates or committees.</span></em></h3>
ORGANIZER;CN=Baldwin County Democrats:mailto:support@baldwindemocrats.org
LOCATION:America/Chicago
URL:https://qomon.app.link/action?id=103691
BEGIN:VALARM
ACTION:DISPLAY
DESCRIPTION:Reminder
TRIGGER:-PT60M
END:VALARM
END:VEVENT
END:VCALENDAR